BEGIN:VCALENDAR
VERSION:2.0
PRODID:-//Moving To Singapore? Essential Guide - Expat Living in Singapore - ECPv6.15.20//NONSGML v1.0//EN
CALSCALE:GREGORIAN
METHOD:PUBLISH
X-ORIGINAL-URL:https://expatliving.sg
X-WR-CALDESC:Events for Moving To Singapore? Essential Guide - Expat Living in Singapore
REFRESH-INTERVAL;VALUE=DURATION:PT1H
X-Robots-Tag:noindex
X-PUBLISHED-TTL:PT1H
BEGIN:VTIMEZONE
TZID:Asia/Singapore
BEGIN:STANDARD
TZOFFSETFROM:+0800
TZOFFSETTO:+0800
TZNAME:+08
DTSTART:20240101T000000
END:STANDARD
END:VTIMEZONE
BEGIN:VEVENT
DTSTART;TZID=Asia/Singapore:20250325T090000
DTEND;TZID=Asia/Singapore:20250325T223000
DTSTAMP:20260423T213507
CREATED:20250219T040014Z
LAST-MODIFIED:20250320T065225Z
UID:10002601-1742893200-1742941800@expatliving.sg
SUMMARY:Discover Aqua Cycling With The Ripple Club!
DESCRIPTION:Try Aqua Cycling with the Ripple Club\nAqua cycling is designed for those who want an energising\, joint-friendly workout in a stunning hotel setting. Ripple Signature blends cardio on an aqua bike with strength training. It’s effective\, low-impact\, and incredibly fun! More than exercise\, it’s a social escape—a chance to connect\, move\, and recharge in a supportive community of like-minded people.  \nMeet us for a 45-minute aqua cycling class at Mercure on Stevens\, followed by a refreshing drink. You’ll discover how these water-based workouts can energise your body\, calm your mind and lift your spirit! Plus\, it’s a great way to meet some new people. \n \nEvent Details:\nDate: 25 March 2025\nTime: 9:00 am – 10:30 am\nWhere: Mercure on Stevens. Take the lifts to Level 2 and follow the signs to the lap pool/fitness centre.\nCost: $25.00\nBook Here
URL:https://expatliving.sg/event/discover-aqua-cycling-with-the-ripples-club/
LOCATION:Mercure On Stevens\, 28 Stevens Road (level 2 by the pool)\, Singapore
CATEGORIES:EL Events,Sports & Wellness
ATTACH;FMTTYPE=image/jpeg:https://expatliving.sg/wp-content/uploads/2025/02/expat-living-ripples-class.jpg
END:VEVENT
END:VCALENDAR