BEGIN:VCALENDAR
VERSION:2.0
PRODID:-//Moving To Singapore? Essential Guide - Expat Living in Singapore - ECPv6.15.20//NONSGML v1.0//EN
CALSCALE:GREGORIAN
METHOD:PUBLISH
X-WR-CALNAME:Moving To Singapore? Essential Guide - Expat Living in Singapore
X-ORIGINAL-URL:https://expatliving.sg
X-WR-CALDESC:Events for Moving To Singapore? Essential Guide - Expat Living in Singapore
REFRESH-INTERVAL;VALUE=DURATION:PT1H
X-Robots-Tag:noindex
X-PUBLISHED-TTL:PT1H
BEGIN:VTIMEZONE
TZID:Asia/Singapore
BEGIN:STANDARD
TZOFFSETFROM:+0800
TZOFFSETTO:+0800
TZNAME:+08
DTSTART:20250101T000000
END:STANDARD
END:VTIMEZONE
BEGIN:VEVENT
DTSTART;VALUE=DATE:20260523
DTEND;VALUE=DATE:20260601
DTSTAMP:20260425T233849
CREATED:20260424T074007Z
LAST-MODIFIED:20260424T084101Z
UID:10003034-1779494400-1780271999@expatliving.sg
SUMMARY:Scaredy Kat Presents: Gateway Arts Theatre Production
DESCRIPTION:Through this inspiring theatre production by Gateway Arts\, meet 11-year-old Kathryn who deals with panic attacks and bullying by focusing on being an aspiring stop-motion filmmaker – with big ideas and even bigger dreams. \nThe problem is\, the figurines she’s building for her movie project keep falling apart — just like her confidence. A world-class over-thinker\, she’s a “scaredy Kat” who keeps the world at length to protect herself. Until her new schoolmate Nadia\, who is bold\, artsy\, and everything Kathryn is seemingly not\, joins her in making the stop-motion film even better. Can Kathryn brace herself to give this friendship a chance? \nGateway Arts\, who brought to stage the successful 12 Going on 13\, Brainstorm\, and Third Man Syndrome\, produces this imaginative and emotionally honest play\, inviting young audiences and families — and anyone who’s ever been afraid — to embrace fear\, celebrate mistakes\, and find the confidence to spread their wings
URL:https://expatliving.sg/event/scaredy-kat-presents-gateway-arts-theatre-production/
LOCATION:Black Box\, Gateway Theatre\, 3615 Jalan Bukit Merah\, Singapore\, 159461\, Singapore
CATEGORIES:Concerts & Shows,Whats On
ATTACH;FMTTYPE=image/jpeg:https://expatliving.sg/wp-content/uploads/2026/04/Scaredy-Kat-Gateway-Arts-Theatre-Production-.jpg
END:VEVENT
END:VCALENDAR