BEGIN:VCALENDAR
VERSION:2.0
PRODID:-//Moving To Singapore? Essential Guide - Expat Living in Singapore - ECPv6.15.20//NONSGML v1.0//EN
CALSCALE:GREGORIAN
METHOD:PUBLISH
X-WR-CALNAME:Moving To Singapore? Essential Guide - Expat Living in Singapore
X-ORIGINAL-URL:https://expatliving.sg
X-WR-CALDESC:Events for Moving To Singapore? Essential Guide - Expat Living in Singapore
REFRESH-INTERVAL;VALUE=DURATION:PT1H
X-Robots-Tag:noindex
X-PUBLISHED-TTL:PT1H
BEGIN:VTIMEZONE
TZID:Asia/Singapore
BEGIN:STANDARD
TZOFFSETFROM:+0800
TZOFFSETTO:+0800
TZNAME:+08
DTSTART:20230101T000000
END:STANDARD
END:VTIMEZONE
BEGIN:VEVENT
DTSTART;VALUE=DATE:20251218
DTEND;VALUE=DATE:20260102
DTSTAMP:20260421T210601
CREATED:20251217T201813Z
LAST-MODIFIED:20251217T202238Z
UID:10002913-1766016000-1767311999@expatliving.sg
SUMMARY:Christmas on A Great Street 2025 (SG60 Edition)
DESCRIPTION:Orchard Road’s annual Christmas light-up appears in soft gold\, rose gold and silvery tones this year\, with the mascot Merli featured throughout the decorations.  \nThere are two Great Christmas Villages operating at Ngee Ann City Civic Plaza and Shaw House Urban Plaza\, each with rides\, games\, a Christmas market and photo spots.  \nLook out for snowfall shows at the 14-metre Mastercard tree at 8pm and 9pm nightly\, and large-scale outdoor projections at Hilton Singapore Orchard. On 24 December\, the Great Christmas Eve Street Party features live performances\, food trucks and a midnight countdown.
URL:https://expatliving.sg/event/christmas-on-a-great-street-2025-sg60-edition/
CATEGORIES:Family,Whats On
ATTACH;FMTTYPE=image/jpeg:https://expatliving.sg/wp-content/uploads/2025/12/20251103-Tanglin-Road-Xmas-Light-Rose-Gold-0099.jpg
END:VEVENT
BEGIN:VEVENT
DTSTART;VALUE=DATE:20250709
DTEND;VALUE=DATE:20250818
DTSTAMP:20260421T210601
CREATED:20250709T143056Z
LAST-MODIFIED:20250709T171832Z
UID:10002764-1752019200-1755475199@expatliving.sg
SUMMARY:National Library Board: Book Bugs Showcase
DESCRIPTION:National Library Board’s (NLB) beloved Book Bugs programme is marking the library board’s 30th anniversary with a celebration that young readers won’t want to miss. \nFrom now until 27 July\, head to selected public libraries to explore Book Bugs: Unearthing Memories\, a travelling showcase featuring all 425 Book Bugs cards from across five editions. Complete the activities on-site to redeem an exclusive NLB30 Book Bugs postcard. \nThen from 29 July to 17 August\, the full exhibition lands at the Asian Civilisations Museum – complete with special Heritage Explorer activities and a last chance to collect the limited-edition Empress card and NLB30 Book Bugs tokens.
URL:https://expatliving.sg/event/book-bugs-national-library-board/
CATEGORIES:Family,Whats On
ATTACH;FMTTYPE=image/jpeg:https://expatliving.sg/wp-content/uploads/2025/07/Book-Bugs.jpg
END:VEVENT
BEGIN:VEVENT
DTSTART;TZID=Asia/Singapore:20250214T090000
DTEND;TZID=Asia/Singapore:20250314T210000
DTSTAMP:20260421T210601
CREATED:20250216T083758Z
LAST-MODIFIED:20250216T083758Z
UID:10002596-1739523600-1741986000@expatliving.sg
SUMMARY:Gardens by the Bay - Orchids from the Land of Smiles
DESCRIPTION:This February\, Gardens by the Bay presents a brand-new floral display at Cloud Forest\, Orchids from the Land of Smiles\, showcasing exquisite orchids that can trace their origins to Thailand\, set against a stunning backdrop of Thai culture and legend. \nCreated in collaboration with the Royal Thai Embassy Singapore\, more than forty taxa of orchids bloom against icons like the Royal Pantheon\, a landmark of Bangkok’s Grand Palace built to honour the kings of the Chakri dynasty\, and more. \nAdmission charge to Cloud Forest applies.
URL:https://expatliving.sg/event/gardens-by-the-bay-orchids-from-the-land-of-smiles/
LOCATION:Cloud Forest\, Gardens by the Bay\, 18 Marina Gardens Dr\, Singapore\, 018953\, Singapore
CATEGORIES:Family,Whats On
ATTACH;FMTTYPE=image/jpeg:https://expatliving.sg/wp-content/uploads/2025/02/Gardens-by-the-bay-orchids-from-the-land-of-smiles.jpg
GEO:1.2816;103.8636
X-APPLE-STRUCTURED-LOCATION;VALUE=URI;X-ADDRESS=Cloud Forest Gardens by the Bay 18 Marina Gardens Dr Singapore 018953 Singapore;X-APPLE-RADIUS=500;X-TITLE=18 Marina Gardens Dr:geo:103.8636,1.2816
END:VEVENT
BEGIN:VEVENT
DTSTART;TZID=Asia/Singapore:20250127T080000
DTEND;TZID=Asia/Singapore:20250205T170000
DTSTAMP:20260421T210601
CREATED:20250105T135149Z
LAST-MODIFIED:20250105T140555Z
UID:10002544-1737964800-1738774800@expatliving.sg
SUMMARY:River Hongbao 2025
DESCRIPTION:Returning to Gardens by the Bay for the fifth year\, River Hongbao 2025 is one of the first events celebrating Singapore’s 60th birthday. \nThere’s a line-up of over 20 lantern displays including a towering God of Fortune at The Meadow. The highlight of this Chinese New Year 2025 event is a special exhibition that explores the history of Chinese migration and the sending of remittance letters to stay connected to family at home. \nVisitors can also look forward to vibrant music\, dance and cultural performances\, amusement rides and family-oriented carnival games\, and a diverse array of snacks and Chinese New Year food at the Food Street. \nThis event is jointly organised by the Singapore Federation of Chinese Clan Associations\, Singapore Chinese Chamber of Commerce and Industry\, SPH Media Trust’s Chinese Media Group\, Singapore Tourism Board and People’s Association. \nThe event is free to attend and runs from 27 January until 5 February. For more details and opening times\, visit gardensbythebay.com.sg/riverhongbao.
URL:https://expatliving.sg/event/river-hongbao-2025/
LOCATION:Gardens by the Bay\, 18 Marina Gardens Drive \, Singapore\, 018953\, Singapore
CATEGORIES:Exhibitions & Workshops,Family,Whats On
ATTACH;FMTTYPE=image/jpeg:https://expatliving.sg/wp-content/uploads/2025/01/River-Hongbao-2025_.jpg
GEO:1.2811198;103.865893
X-APPLE-STRUCTURED-LOCATION;VALUE=URI;X-ADDRESS=Gardens by the Bay 18 Marina Gardens Drive  Singapore 018953 Singapore;X-APPLE-RADIUS=500;X-TITLE=18 Marina Gardens Drive:geo:103.865893,1.2811198
END:VEVENT
BEGIN:VEVENT
DTSTART;TZID=Asia/Singapore:20241122T090000
DTEND;TZID=Asia/Singapore:20241122T110000
DTSTAMP:20260421T210601
CREATED:20241015T042823Z
LAST-MODIFIED:20241103T135658Z
UID:10002457-1732266000-1732273200@expatliving.sg
SUMMARY:Brighton College (Singapore) Open House
DESCRIPTION:Want to know how Brighton College (Singapore) nurtures kindness\, curiosity and confidence in their pupils aged 18 months to 13 years? The Head of College warmly invites you to their next Open House\, where you will have the chance to meet their amazing teachers\, and find out more about what makes a Brighton College (Singapore) education unique. \nRegister your spot here.
URL:https://expatliving.sg/event/brighton-college-singapore-school-open-house/
LOCATION:Brighton College Singapore\, 1 Chuan Ln\, 554299\, Singapore
CATEGORIES:Family,Key Events,Whats On
ATTACH;FMTTYPE=image/jpeg:https://expatliving.sg/wp-content/uploads/2024/10/Brighton.jpg
END:VEVENT
BEGIN:VEVENT
DTSTART;TZID=Asia/Singapore:20241114T083000
DTEND;TZID=Asia/Singapore:20241114T100000
DTSTAMP:20260421T210601
CREATED:20241015T053926Z
LAST-MODIFIED:20241015T053926Z
UID:10002458-1731573000-1731578400@expatliving.sg
SUMMARY:Early Years Stay & Play - Brighton College (Singapore)
DESCRIPTION:Join Brighton College (Singapore) for a lively morning of discovery to start your child’s educational journey. This is a wonderful opportunity for your child to experience their Early Years environment\, explore their innovative curriculum and discover what makes Brighton College (Singapore) Early Years a special place. \nParents and children ages 18 months to 5 years are warmly welcome. Registration is free here.
URL:https://expatliving.sg/event/brighton-early-years-stay-and-play-singapore/
LOCATION:Brighton College Singapore\, 1 Chuan Ln\, 554299\, Singapore
CATEGORIES:Family,Key Events,Whats On
ATTACH;FMTTYPE=image/jpeg:https://expatliving.sg/wp-content/uploads/2024/10/Brighton-Early-Years.jpg
END:VEVENT
BEGIN:VEVENT
DTSTART;TZID=Asia/Singapore:20241029T180000
DTEND;TZID=Asia/Singapore:20241029T200000
DTSTAMP:20260421T210601
CREATED:20241002T120222Z
LAST-MODIFIED:20241002T164157Z
UID:10002434-1730224800-1730232000@expatliving.sg
SUMMARY:IBDP & IGCSE Options Evenings - Nexus International School
DESCRIPTION:Join Nexus International School for their IBDP & IGCSE Evenings and gain valuable insights into these world-class programmes. Learn about the curriculum\, meet their experienced teachers and current learners\, and have your questions answered by the knowledgeable staff. \n\nIBDP Options Evening: 24th October\, 6-8pm\nIGCSE Options Evening: 29th October\, 6-8pm\n\nRegister today.
URL:https://expatliving.sg/event/ibdp-igcse-options-evenings-nexus/2024-10-29/
LOCATION:Nexus International School (Singapore)\, 1 Aljunied Walk\, Singapore\, 387293\, Singapore
CATEGORIES:Family,Key Events,Whats On
ATTACH;FMTTYPE=image/jpeg:https://expatliving.sg/wp-content/uploads/2024/10/Nexus.jpg
GEO:1.319258;103.775738
X-APPLE-STRUCTURED-LOCATION;VALUE=URI;X-ADDRESS=Nexus International School (Singapore) 1 Aljunied Walk Singapore 387293 Singapore;X-APPLE-RADIUS=500;X-TITLE=1 Aljunied Walk:geo:103.775738,1.319258
END:VEVENT
BEGIN:VEVENT
DTSTART;TZID=Asia/Singapore:20240926T100000
DTEND;TZID=Asia/Singapore:20240926T120000
DTSTAMP:20260421T210601
CREATED:20240816T045918Z
LAST-MODIFIED:20240823T010422Z
UID:10002372-1727344800-1727352000@expatliving.sg
SUMMARY:Talk: "Body Image and Wellness" Navigating Teen Eating Disorders
DESCRIPTION:The relationship we have with our body image can affect our mental health and wellbeing. Often\, the challenge as parents is knowing what you can do to help your teenager develop and maintain a healthy body image. It’s important you feel empowered to not only understand and recognise the signs of body image difficulties\, but also where to signpost and seek support from. \nJoin leading professionals as we navigate the complex world of disordered eating and mental health in teenagers in a panel discussion. Gain valuable tools and guidance to help support your teenager’s journey towards a healthier self-image. \nSpeakers: \n\nDr Nithya Nahappan – Family Physician\, Osler Health International\nMarie-Claire Reville – Clinical Psychologist\, Us Therapy\nVanessa McNamara – Dietitian\, The Travelling Dietitian\n\nTickets: $30 inclusive of tea/coffee and light snacks \n 
URL:https://expatliving.sg/event/talk-body-image-and-wellness-navigating-teen-eating-disorders/
LOCATION:Mandala Club\, Singapore
CATEGORIES:Family,Key Events,Whats On
ATTACH;FMTTYPE=image/jpeg:https://expatliving.sg/wp-content/uploads/2024/08/Body-image-and-Wellness-Talk.jpg
END:VEVENT
BEGIN:VEVENT
DTSTART;TZID=Asia/Singapore:20240913T091500
DTEND;TZID=Asia/Singapore:20240913T113000
DTSTAMP:20260421T210601
CREATED:20240812T164414Z
LAST-MODIFIED:20240812T164732Z
UID:10002368-1726218900-1726227000@expatliving.sg
SUMMARY:Brighton College (Singapore) Open House
DESCRIPTION:Brighton College (Singapore) offers an exceptional foundation of learning for children aged 18 months to 13 years. \nWant to know how they nurture kindness\, curiosity and confidence in their pupils? The Head of College warmly invites you to their next Open House\, where you will have the chance to meet the teachers and find out more about what makes a Brighton College (Singapore) education unique.
URL:https://expatliving.sg/event/brighton-college-singapore-open-house-sept-13/
LOCATION:Brighton College Singapore\, 1 Chuan Ln\, 554299\, Singapore
CATEGORIES:Family,Key Events,Whats On
ATTACH;FMTTYPE=image/jpeg:https://expatliving.sg/wp-content/uploads/2024/08/brighton.jpg
END:VEVENT
END:VCALENDAR